BEGIN:VCALENDAR
VERSION:2.0
PRODID:-//Age Friendly Ridgewood - ECPv6.15.20//NONSGML v1.0//EN
CALSCALE:GREGORIAN
METHOD:PUBLISH
X-ORIGINAL-URL:https://www.agefriendlyridgewood.org
X-WR-CALDESC:Events for Age Friendly Ridgewood
REFRESH-INTERVAL;VALUE=DURATION:PT1H
X-Robots-Tag:noindex
X-PUBLISHED-TTL:PT1H
BEGIN:VTIMEZONE
TZID:America/New_York
BEGIN:DAYLIGHT
TZOFFSETFROM:-0500
TZOFFSETTO:-0400
TZNAME:EDT
DTSTART:20250309T070000
END:DAYLIGHT
BEGIN:STANDARD
TZOFFSETFROM:-0400
TZOFFSETTO:-0500
TZNAME:EST
DTSTART:20251102T060000
END:STANDARD
BEGIN:DAYLIGHT
TZOFFSETFROM:-0500
TZOFFSETTO:-0400
TZNAME:EDT
DTSTART:20260308T070000
END:DAYLIGHT
BEGIN:STANDARD
TZOFFSETFROM:-0400
TZOFFSETTO:-0500
TZNAME:EST
DTSTART:20261101T060000
END:STANDARD
BEGIN:DAYLIGHT
TZOFFSETFROM:-0500
TZOFFSETTO:-0400
TZNAME:EDT
DTSTART:20270314T070000
END:DAYLIGHT
BEGIN:STANDARD
TZOFFSETFROM:-0400
TZOFFSETTO:-0500
TZNAME:EST
DTSTART:20271107T060000
END:STANDARD
END:VTIMEZONE
BEGIN:VEVENT
DTSTART;TZID=America/New_York:20260116T130000
DTEND;TZID=America/New_York:20261218T150000
DTSTAMP:20260422T191427
CREATED:20260205T234714Z
LAST-MODIFIED:20260205T234714Z
UID:2121-1768568400-1797606000@www.agefriendlyridgewood.org
SUMMARY:Free Blood Pressure Screening\, Third Friday of Month except June
DESCRIPTION:
URL:https://www.agefriendlyridgewood.org/event/free-blood-pressure-screening-third-friday-of-month-except-june/
LOCATION:First Floor Garden Room in Ridgewood Village Hall
END:VEVENT
BEGIN:VEVENT
DTSTART;TZID=America/New_York:20260430T103000
DTEND;TZID=America/New_York:20260430T113000
DTSTAMP:20260422T191427
CREATED:20260419T214447Z
LAST-MODIFIED:20260419T214447Z
UID:2155-1777545000-1777548600@www.agefriendlyridgewood.org
SUMMARY:Patriotic Celebration and Veterans Administration Health Benefits Program
DESCRIPTION:Screenshot
URL:https://www.agefriendlyridgewood.org/event/patriotic-celebration-and-veterans-administration-health-benefits-program/
LOCATION:Pat Mancuso Senior Lounge of The Community Center\, 131 N. Maple Ave.\, Ridgewood\, NJ\, 07450\, United States
END:VEVENT
BEGIN:VEVENT
DTSTART;TZID=America/New_York:20260501T090000
DTEND;TZID=America/New_York:20260531T170000
DTSTAMP:20260422T191427
CREATED:20260205T235526Z
LAST-MODIFIED:20260206T000312Z
UID:2129-1777626000-1780246800@www.agefriendlyridgewood.org
SUMMARY:Older Americans Community Art Show--Call for Art and Exhibition
DESCRIPTION:
URL:https://www.agefriendlyridgewood.org/event/older-americans-community-art-show-call-for-art-and-exhibition/
LOCATION:Please click event name to see flier with more details
END:VEVENT
BEGIN:VEVENT
DTSTART;TZID=America/New_York:20260511T180000
DTEND;TZID=America/New_York:20260511T190000
DTSTAMP:20260422T191427
CREATED:20260419T213919Z
LAST-MODIFIED:20260419T213919Z
UID:2150-1778522400-1778526000@www.agefriendlyridgewood.org
SUMMARY:Adult Children of Aging Parents Finding and Using Senior Services in your Local Community
DESCRIPTION:
URL:https://www.agefriendlyridgewood.org/event/adult-children-of-aging-parents-finding-and-using-senior-services-in-your-local-community/
LOCATION:via Zoom
END:VEVENT
BEGIN:VEVENT
DTSTART;TZID=America/New_York:20260512T113000
DTEND;TZID=America/New_York:20260512T133000
DTSTAMP:20260422T191427
CREATED:20260419T214757Z
LAST-MODIFIED:20260419T214757Z
UID:2159-1778585400-1778592600@www.agefriendlyridgewood.org
SUMMARY:May Lunch and Learn\, "Protecting Your Identity Online"
DESCRIPTION:
URL:https://www.agefriendlyridgewood.org/event/may-lunch-and-learn-protecting-your-identity-online/
LOCATION:Anne Zusy Youth Center at Village Hall\, 131 N. Maple Ave\, Ridgewood\, NJ\, 07450\, United States
END:VEVENT
BEGIN:VEVENT
DTSTART;TZID=America/New_York:20260519T100000
DTEND;TZID=America/New_York:20260519T110000
DTSTAMP:20260422T191427
CREATED:20260419T215458Z
LAST-MODIFIED:20260419T215458Z
UID:2166-1779184800-1779188400@www.agefriendlyridgewood.org
SUMMARY:The Basics of Caregiving
DESCRIPTION:
URL:https://www.agefriendlyridgewood.org/event/the-basics-of-caregiving/
LOCATION:Pat Mancuso Senior Lounge of The Community Center\, 131 N. Maple Ave.\, Ridgewood\, NJ\, 07450\, United States
END:VEVENT
BEGIN:VEVENT
DTSTART;TZID=America/New_York:20260531T113000
DTEND;TZID=America/New_York:20260531T130000
DTSTAMP:20260422T191427
CREATED:20260419T215154Z
LAST-MODIFIED:20260419T215154Z
UID:2162-1780227000-1780232400@www.agefriendlyridgewood.org
SUMMARY:Parks and Recreation Welcomes Older Adults Opening Weekend at Graydon Pool
DESCRIPTION:Screenshot
URL:https://www.agefriendlyridgewood.org/event/parks-and-recreation-welcomes-older-adults-opening-weekend-at-graydon-pool/
LOCATION:Graydon Pool\, 259 N. Maple Ave.\, Ridgewood\, NJ\, 07450
END:VEVENT
END:VCALENDAR